BEGIN:VCALENDAR
VERSION:2.0
PRODID:-//Library Market//iCal Export//EN
BEGIN:VEVENT
SUMMARY:Clay Creators
UID:42573
DTSTAMP:20260419T212500Z
DTSTART:20260524T170000Z
DTEND:20260524T180000Z
LOCATION:Quogue Library, 90 Quogue St, Quogue, NY 11959, United States
ROOM: Children&#039;s Room
DESCRIPTION:The Quogue Library is happy to present a new art class focused
  on sculpting! Your child will create a dinosaur-themed sculpture with the
 ir own hands and imagination, guided by art instructor Louis Shaffer. 
URL:https://quogue.librarycalendar.com/index.php/event/clay-creators-42573
END:VEVENT
END:VCALENDAR
