BEGIN:VCALENDAR
VERSION:2.0
PRODID:-//Library Market//iCal Export//EN
BEGIN:VEVENT
SUMMARY:Photography
UID:42429
DTSTAMP:20260421T181200Z
DTSTART:20260530T190000Z
DTEND:20260530T203000Z
LOCATION:Quogue Library, 90 Quogue St, Quogue, NY 11959, United States
ROOM: Shinnecock Room
DESCRIPTION:Would you like to take more expressive, meaningful photographs
 —images that reflect the way you see the world? This lively introductory
  lecture will introduce the eight fundamental “vocabulary” elements of
  photography and help you discover which ones best align with your persona
 l vision. No technical expertise required.
URL:https://quogue.librarycalendar.com/index.php/event/photography-42429
END:VEVENT
END:VCALENDAR
