BEGIN:VCALENDAR
VERSION:2.0
PRODID:-//Library Market//iCal Export//EN
BEGIN:VEVENT
SUMMARY:Spring into Summer Dinner with Chef Colette
UID:42426
DTSTAMP:20260420T100600Z
DTSTART:20260527T220000Z
DTEND:20260527T230000Z
LOCATION:Quogue Library, 90 Quogue St, Quogue, NY 11959, United States
ROOM: Shinnecock Room
DESCRIPTION:&quot;Platinum Chef of the Hamptons,” Chef Colette will prep
 are a fresh and zippy preserved lemon and spring pea soup, rhubarb and red
  lentil curry and a meyer lemon mousse for dessert.$15 due at registration
 .
URL:https://quogue.librarycalendar.com/index.php/event/spring-summer-dinne
 r-chef-colette-42426
END:VEVENT
END:VCALENDAR
