BEGIN:VCALENDAR
VERSION:2.0
PRODID:-//Library Market//iCal Export//EN
BEGIN:VEVENT
SUMMARY:Floral Arranging
UID:42420
DTSTAMP:20260422T123400Z
DTSTART:20260520T190000Z
DTEND:20260520T200000Z
LOCATION:Quogue Library, 90 Quogue St, Quogue, NY 11959, United States
ROOM: Shinnecock Room
DESCRIPTION:Make a beautiful floral arrangement to brighten your home in a
  class taught by Rori.$30 supply fee due at registration.
URL:https://quogue.librarycalendar.com/index.php/event/floral-arranging-42
 420
END:VEVENT
END:VCALENDAR
